BEGIN:VCALENDAR
VERSION:2.0
PRODID:-//Department Of Education//3ec619eb-36b4-4668-9c62-c6643fdfe776
BEGIN:VTIMEZONE
TZID:Australia/Sydney
TZURL:http://tzurl.org/zoneinfo-outlook/Australia/Sydney
X-LIC-LOCATION:Australia/Sydney
BEGIN:STANDARD
TZOFFSETFROM:+1100
TZOFFSETTO:+1000
TZNAME:AEST
DTSTART:19700405T030000
RRULE:FREQ=YEARLY;BYMONTH=4;BYDAY=1SU
END:STANDARD
BEGIN:DAYLIGHT
TZOFFSETFROM:+1000
TZOFFSETTO:+1100
TZNAME:AEDT
DTSTART:19701004T020000
RRULE:FREQ=YEARLY;BYMONTH=10;BYDAY=1SU
END:DAYLIGHT
END:VTIMEZONE
CALSCALE:GREGORIAN
X-WR-TIMEZONE:Australia/Sydney
BEGIN:VEVENT
DTSTART;VALUE=DATE:20200312
DTEND;VALUE=DATE:20200313
DTSTAMP:20200312T000000Z
UID:8b010aea-7135-4c42-944d-83f0f7f09c17
LOCATION:-
SUMMARY;LANGUAGE=en-us:Selective High School Test
SEQUENCE:0
DESCRIPTION:-
END:VEVENT
TRANSP:TRANSPARENT
END:VCALENDAR
