BEGIN:VCALENDAR
VERSION:2.0
PRODID:-//Department Of Education//dc015981-196c-4de5-977a-edd59a19224a
BEGIN:VTIMEZONE
TZID:Australia/Sydney
TZURL:http://tzurl.org/zoneinfo-outlook/Australia/Sydney
X-LIC-LOCATION:Australia/Sydney
BEGIN:STANDARD
TZOFFSETFROM:+1100
TZOFFSETTO:+1000
TZNAME:AEST
DTSTART:19700405T030000
RRULE:FREQ=YEARLY;BYMONTH=4;BYDAY=1SU
END:STANDARD
BEGIN:DAYLIGHT
TZOFFSETFROM:+1000
TZOFFSETTO:+1100
TZNAME:AEDT
DTSTART:19701004T020000
RRULE:FREQ=YEARLY;BYMONTH=10;BYDAY=1SU
END:DAYLIGHT
END:VTIMEZONE
CALSCALE:GREGORIAN
X-WR-TIMEZONE:Australia/Sydney
BEGIN:VEVENT
DTSTART;VALUE=DATE:20200319
DTEND;VALUE=DATE:20200320
DTSTAMP:20200319T000000Z
UID:8d63eba3-908b-4758-8fd2-d1cbbaee9f88
LOCATION:Marie Bashir Public School
SUMMARY;LANGUAGE=en-us:School Photo Day
SEQUENCE:0
DESCRIPTION:-
END:VEVENT
TRANSP:TRANSPARENT
END:VCALENDAR
