BEGIN:VCALENDAR
VERSION:2.0
PRODID:-//Department Of Education//0e8038af-4cf2-49a5-99ee-2287c55cddf3
BEGIN:VTIMEZONE
TZID:Australia/Sydney
TZURL:http://tzurl.org/zoneinfo-outlook/Australia/Sydney
X-LIC-LOCATION:Australia/Sydney
BEGIN:STANDARD
TZOFFSETFROM:+1100
TZOFFSETTO:+1000
TZNAME:AEST
DTSTART:19700405T030000
RRULE:FREQ=YEARLY;BYMONTH=4;BYDAY=1SU
END:STANDARD
BEGIN:DAYLIGHT
TZOFFSETFROM:+1000
TZOFFSETTO:+1100
TZNAME:AEDT
DTSTART:19701004T020000
RRULE:FREQ=YEARLY;BYMONTH=10;BYDAY=1SU
END:DAYLIGHT
END:VTIMEZONE
CALSCALE:GREGORIAN
X-WR-TIMEZONE:Australia/Sydney
BEGIN:VEVENT
DTSTART;TZID=Australia/Sydney:20200205T140000
DTEND;TZID=Australia/Sydney:20200205T150000
DTSTAMP:20200205T000000Z
UID:fdc84862-a149-40eb-b019-7550341b6672
LOCATION:School Hall
SUMMARY;LANGUAGE=en-us:Year 3-6 Assembly
RRULE:FREQ=WEEKLY;INTERVAL=2;UNTIL=20200409;
SEQUENCE:0
DESCRIPTION:Assemblies are a highlight of each school week and play an integral part in maintaining the sense of community that assists in making our school a wonderful place to be. Children assemble in the school hall for meetings each Wednesday at 2:00pm. Children sit in prearranged areas under the direct supervision of their class teacher. Assembly is conducted by the hosting class and included in the assembly is an Acknowledgement of Country, the National Anthem, performances, presentation of awards and notices. Parents are always welcome at our assemblies.
END:VEVENT
TRANSP:TRANSPARENT
END:VCALENDAR
